Workbook

Sheet Wage & Hours Worked
A1: Time Card - Use as needed | O1: Standard Work Week | S1: =40 -> 40
A3: Time Clerk's Report No. 1 - For Period Ending January 8th, 20xx | M3: Employees Wages
A4: No. | B4: Employee | C4: M | D4: T | E4: W | F4: Th | G4: F | H4: S | I4: Time Worked | J4: Time Lost | K4: Reg. | L4: Ot. | M4: No. | N4: Employee | O4: Hourly Wage or Salary | P4: Yr-Mnth | Q4: Mnth - Wk | R4: Wk - Hr | S4: Pay/hr | T4: Total Reg. $ | U4: OT pay/hr | V4: Total Ot. $ | W4: Total Earnings
A5: 11 | B5: Fran Carson | C5: 8 | D5: 8 | E5: 8 | F5: 8 | G5: 8 | H5: - | I5: 40 | K5: 40 | L5: =IF(I5>$S$1,I5-$S$1,0) -> 0 | M5: 11 | N5: Fran Carson | O5: $17.50 per hour | S5: 17.5 | T5: =S5*K5 -> 700 | U5: =S5*1.5 -> 26.25 | V5: =U5*L5 -> 0 | W5: =T5+V5 -> 700
A6: 12 | B6: William Willson | C6: 8 | D6: 8 | E6: 8 | F6: 8 | G6: 8 | H6: 8 | I6: 48 | K6: =IF(I6>$S$1,S$1,I6) -> 40 | L6: =IF(I6>$S$1,I6-$S$1,0) -> 8 | M6: 12 | N6: William Willson | O6: $17.25 per hour | S6: 17.25 | T6: =S6*K6 -> 690 | U6: =S6*1.5 -> 25.875 | V6: =25.88*8 -> 207.04 | W6: =T6+V6 -> 897.04
A7: 13 | B7: Harry Utley | C7: 8 | D7: 5.5 | E7: 8 | F7: 8 | G7: 8 | H7: - | I7: 37.5 | J7: 2.75 | K7: =IF(I7>$S$1,S$1,I7) -> 37.5 | L7: =IF(I7>$S$1,I7-$S$1,0) -> 0 | M7: 13 | N7: Harry Utley | O7: $18.10 per hour | S7: 18.1 | T7: =S7*K7 -> 678.75 | U7: =S7*1.5 -> 27.15 | V7: =U7*L7 -> 0 | W7: =T7+V7 -> 678.75
A8: 21 | B8: Lawrence Fife | C8: 10 | D8: 10 | E8: 8 | F8: 8 | G8: 10 | H8: - | I8: 46 | J8: tardy | K8: =IF(I8>$S$1,S$1,I8) -> 40 | L8: =IF(I8>$S$1,I8-$S$1,0) -> 6 | M8: 21 | N8: Lawrence Fife | O8: $17.90 per hour | S8: 17.9 | T8: =S8*K8 -> 716 | U8: =S8*1.5 -> 26.85 | V8: =U8*L8 -> 161.1 | W8: =T8+V8 -> 877.1
A9: 22 | B9: Lucy Smith | C9: 8 | D9: 8 | E9: 8 | F9: 8 | G9: 8 | H9: - | I9: 40 | K9: =IF(I9>$S$1,S$1,I9) -> 40 | L9: =IF(I9>$S$1,I9-$S$1,0) -> 0 | M9: 22 | N9: Lucy Smith | O9: 19.75 per hour | S9: 19.75 | T9: =S9*K9 -> 790 | U9: =S9*1.5 -> 29.625 | V9: =U9*L9 -> 0 | W9: =T9+V9 -> 790
A10: 31 | B10: Gretchen Fay | C10: 8 | D10: 8 | E10: 8 | F10: 8 | G10: 8 | H10: 1.25 | I10: 41.25 | K10: 40 | L10: =IF(I10>$S$1,I10-$S$1,0) -> 1.25 | M10: 31 | N10: Gretchen Fay | O10: $515 per week | R10: =ROUND(515/$S$1,2) -> 12.88 | S10: =R10 -> 12.88 | T10: =S10*K10 -> 515.2 | U10: =S10*1.5 -> 19.32 | V10: =19.32*1.25 -> 24.15 | W10: =V10+T10 -> 539.35
A11: 32 | B11: Glenda Robey | C11: 8 | D11: 8 | E11: 8 | F11: 8 | G11: 8 | H11: - | I11: 40 | K11: =IF(I11>$S$1,S$1,I11) -> 40 | L11: =IF(I11>$S$1,I11-$S$1,0) -> 0 | M11: 32 | N11: Glenda Robey | O11: $2,700 per month | Q11: =(2700*12)/52 -> 623.07692 | R11: =ROUND(Q11/$S$1,2) -> 15.58 | S11: =R11 -> 15.58 | T11: =S11*K11 -> 623.2 | U11: =S11*1.5 -> 23.37 | V11: =U11*L11 -> 0 | W11: =T11+V11 -> 623.2
A12: 33 | B12: Thomas Schork | C12: 8 | D12: 8 | E12: 8 | F12: 8 | G12: 8 | H12: - | I12: 40 | K12: =IF(I12>$S$1,S$1,I12) -> 40 | L12: =IF(I12>$S$1,I12-$S$1,0) -> 0 | M12: 33 | N12: Thomas Schork | O12: $3,350 per month | Q12: =(3350*12)/52 -> 773.07692 | R12: =Q12/$S$1 -> 19.326923 | S12: =R12 -> 19.326923 | T12: =19.33*40 -> 773.2 | U12: =S12*1.5 -> 28.990385 | V12: =U12*L12 -> 0 | W12: =T12+V12 -> 773.2
A13: 51 | B13: Barbara hardy | C13: 8 | D13: 8 | E13: 8 | F13: 8 | G13: 8 | H13: 4 | I13: 44 | K13: =IF(I13>$S$1,S$1,I13) -> 40 | L13: =IF(I13>$S$1,I13-$S$1,0) -> 4 | M13: 51 | N13: Barbara hardy | O13: $2,510 per month | Q13: =(2510*12)/52 -> 579.23077 | R13: =Q13/$S$1 -> 14.480769 | S13: =R13 -> 14.480769 | T13: =14.48*40 -> 579.2 | U13: =S13*1.5 -> 21.721154 | V13: =U13*L13 -> 86.884615 | W13: =T13+V13 -> 666.08462
A14: 99 | B14: Carson Kipley | C14: 8 | D14: 8 | E14: 8 | F14: 8 | G14: 8 | H14: - | I14: 40 | K14: =IF(I14>$S$1,S$1,I14) -> 40 | L14: NO | M14: 99 | N14: Carson Kipley | O14: $52,000 per year | P14: =52000/12 -> 4333.3333 | Q14: =52000/52 -> 1000 | R14: =Q14/$S$1 -> 25 | S14: =R14 -> 25 | T14: =ROUND(K14*S14,2) -> 1000 | W14: =T14+V14 -> 1000
S21: The formula I used is not making the correct
S22: amount. The amount should be 515.20 and 623.20.
S23: When I enter the formula in manually 12.88*40, it comes
S24: up with the correct answer of 515.20 but using the formula
S25: it drops the cents. What am I doing wrong?

Sheet Wages and FICA Taxes
A1: Week 3
B2: KIPLEY COMPANY, INC.
B3: PAYROLL REGISTER
C4: FOR PERIOD ENDING | D4: 40915
B6: Time Card No. | D6: Regular Earnings | H6: Overtime Earnings | N6: Deductions
C7: Name | D7: Hours worked | E7: Rate Per Hour | F7: Amount | H7: Hours worked | I7: Rate Per Hour | J7: Amount | L7: Total Earnings | N7: OASDI Tax | O7: HI Tax
A9: 1 | B9: 11 | C9: Carson, Fran M. | D9: 40 | E9: 17.5 | F9: =D9*E9 -> 700 | G9: =IF(F9='Wage & Hours Worked'!T5,"yes","no") -> yes | H9: 0 | I9: =E9*1.5 -> 26.25 | J9: =H9*I9 -> 0 | K9: =IF(J9='Wage & Hours Worked'!V5,"yes","no") -> yes | L9: =F9+J9 -> 700 | M9: =IF(L9='Wage & Hours Worked'!W5,"yes","no") -> yes
A10: 2 | B10: 12 | C10: Wilson, William A. | D10: 40 | E10: 17.25 | F10: =D10*E10 -> 690 | G10: =IF(F10='Wage & Hours Worked'!T6,"yes","no") -> yes | H10: 8 | I10: =E10*1.5 -> 25.875 | J10: =25.88*8 -> 207.04 | K10: =IF(J10='Wage & Hours Worked'!V6,"yes","no") -> yes | L10: =F10+J10 -> 897.04 | M10: =IF(L10='Wage & Hours Worked'!W6,"yes","no") -> yes
A11: 3 | B11: 13 | C11: Utley, Harry T. | D11: 37.5 | E11: 18.1 | F11: =D11*E11 -> 678.75 | G11: =IF(F11='Wage & Hours Worked'!T7,"yes","no") -> yes | H11: 0 | I11: =E11*1.5 -> 27.15 | J11: =H11*I11 -> 0 | K11: =IF(J11='Wage & Hours Worked'!V7,"yes","no") -> yes | L11: =F11+J11 -> 678.75 | M11: =IF(L11='Wage & Hours Worked'!W7,"yes","no") -> yes
A12: 4 | B12: 21 | C12: Fife, Lawrence R. | D12: 40 | E12: 17.9 | F12: =D12*E12 -> 716 | G12: =IF(F12='Wage & Hours Worked'!T8,"yes","no") -> yes | H12: 6 | I12: =E12*1.5 -> 26.85 | J12: =H12*I12 -> 161.1 | K12: =IF(J12='Wage & Hours Worked'!V8,"yes","no") -> yes | L12: =F12+J12 -> 877.1 | M12: =IF(L12='Wage & Hours Worked'!W8,"yes","no") -> yes
A13: 5 | B13: 22 | C13: Smith, Lucy K | D13: 40 | E13: 19.75 | F13: =D13*E13 -> 790 | G13: =IF(F13='Wage & Hours Worked'!T9,"yes","no") -> yes | H13: 0 | I13: =E13*1.5 -> 29.625 | J13: =H13*I13 -> 0 | K13: =IF(J13='Wage & Hours Worked'!V9,"yes","no") -> yes | L13: =F13+J13 -> 790 | M13: =IF(L13='Wage & Hours Worked'!W9,"yes","no") -> yes
A14: 6 | B14: 31 | C14: Fay, Gretchen R. | D14: 40 | E14: 12.875 | F14: 515.2 | G14: =IF(F14='Wage & Hours Worked'!T10,"yes","no") -> yes | H14: 1.25 | I14: =12.88*1.5 -> 19.32 | J14: =H14*I14 -> 24.15 | K14: =IF(J14='Wage & Hours Worked'!V10,"yes","no") -> yes | L14: =F14+J14 -> 539.35 | M14: =IF(L14='Wage & Hours Worked'!W10,"yes","no") -> yes
A15: 7 | B15: 32 | C15: Robey, Glenda B. | D15: 40 | E15: 15.576923 | F15: 623.2 | G15: =IF(F15='Wage & Hours Worked'!T11,"yes","no") -> yes | H15: 0 | I15: =E15*1.5 -> 23.365385 | J15: =H15*I15 -> 0 | K15: =IF(J15='Wage & Hours Worked'!V11,"yes","no") -> yes | L15: =F15+J15 -> 623.2 | M15: =IF(L15='Wage & Hours Worked'!W11,"yes","no") -> yes
A16: 8 | B16: 33 | C16: Schork, Thomas K. | D16: 40 | E16: 19.326923 | F16: 773.2 | G16: =IF(F16='Wage & Hours Worked'!T12,"yes","no") -> yes | H16: 0 | I16: =E16*1.5 -> 28.990385 | J16: =H16*I16 -> 0 | K16: =IF(J16='Wage & Hours Worked'!V12,"yes","no") -> yes | L16: =F16+J16 -> 773.2 | M16: =IF(L16='Wage & Hours Worked'!W12,"yes","no") -> yes
A17: 9 | B17: 51 | C17: Hardy, Barbara T. | D17: 40 | E17: 14.480769 | F17: 579.2 | G17: =IF(F17='Wage & Hours Worked'!T13,"yes","no") -> yes | H17: 4 | I17: =E17*1.5 -> 21.721154 | J17: =H17*I17 -> 86.884615 | K17: =IF(J17='Wage & Hours Worked'!V13,"yes","no") -> yes | L17: =F17+J17 -> 666.08462 | M17: =IF(L17='Wage & Hours Worked'!W13,"yes","no") -> yes
A18: 10 | B18: 99 | C18: Kipley, Carson C. | D18: 40 | E18: 25 | F18: =D18*E18 -> 1000 | G18: =IF(F18='Wage & Hours Worked'!T14,"yes","no") -> yes | H18: 0 | I18: N/A | K18: =IF(J18='Wage & Hours Worked'!V14,"yes","no") -> yes | L18: =F18+J18 -> 1000
A19: 11 | B19: Totals………………………………… | F19: =SUM(F9:F18) -> 7065.55 | J19: =SUM(J9:J18) -> 479.17462 | L19: =SUM(L9:L18) -> 7544.7246
B23: KIPLEY COMPANY, INC.
B24: PAYROLL REGISTER
C25: FOR PERIOD ENDING | D25: 20
B27: Time Card No. | C27: Name | D27: Regular Earnings | H27: Overtime Earnings | N27: Deductions
D28: Hours worked | E28: Rate Per Hour | F28: Amount | H28: Hours worked | I28: Rate Per Hour | J28: Amount | L28: Total Earnings | N28: OASDI Tax | O28: HI Tax
A30: 1 | B30: 11 | C30: Carson, Fran M. | D30: =D9 -> 40 | E30: =E9 -> 17.5 | F30: =F9 -> 700 | H30: =H9 -> 0 | I30: =I9 -> 26.25 | J30: =J9 -> 0 | L30: =L9 -> 700 | N30: =L30*6.2% -> 43.4 | O30: =L30*1.45% -> 10.15
A31: 2 | B31: 12 | C31: Wilson, William A. | D31: =D10 -> 40 | E31: =E10 -> 17.25 | F31: =F10 -> 690 | H31: =H10 -> 8 | I31: =I10 -> 25.875 | J31: =J10 -> 207.04 | L31: =L10 -> 897.04 | N31: =L31*6.2% -> 55.61648 | O31: =L31*1.45% -> 13.00708
A32: 3 | B32: 13 | C32: Utley, Harry T. | D32: =D11 -> 37.5 | E32: =E11 -> 18.1 | F32: =F11 -> 678.75 | H32: =H11 -> 0 | I32: =I11 -> 27.15 | J32: =J11 -> 0 | L32: =L11 -> 678.75 | N32: =L32*6.2% -> 42.0825 | O32: =L32*1.45% -> 9.841875
A33: 4 | B33: 21 | C33: Fife, Lawrence R. | D33: =D12 -> 40 | E33: =E12 -> 17.9 | F33: =F12 -> 716 | H33: =H12 -> 6 | I33: =I12 -> 26.85 | J33: =J12 -> 161.1 | L33: =L12 -> 877.1 | N33: =L33*6.2% -> 54.3802 | O33: =L33*1.45% -> 12.71795
A34: 5 | B34: 22 | C34: Smith, Lucy K | D34: =D13 -> 40 | E34: =E13 -> 19.75 | F34: =F13 -> 790 | H34: =H13 -> 0 | I34: =I13 -> 29.625 | J34: =J13 -> 0 | L34: =L13 -> 790 | N34: =L34*6.2% -> 48.98 | O34: =L34*1.45% -> 11.455
A35: 6 | B35: 31 | C35: Fay, Gretchen R. | D35: =D14 -> 40 | E35: =E14 -> 12.875 | F35: =F14 -> 515.2 | H35: =H14 -> 1.25 | I35: =I14 -> 19.32 | J35: =J14 -> 24.15 | L35: =L14 -> 539.35 | N35: =L35*6.2% -> 33.4397 | O35: =L35*1.45% -> 7.820575
A36: 7 | B36: 32 | C36: Robey, Glenda B. | D36: =D15 -> 40 | E36: =E15 -> 15.576923 | F36: =F15 -> 623.2 | H36: =H15 -> 0 | I36: =I15 -> 23.365385 | J36: =J15 -> 0 | L36: =L15 -> 623.2 | N36: =L36*6.2% -> 38.6384 | O36: =L36*1.45% -> 9.0364
A37: 8 | B37: 33 | C37: Schork, Thomas K. | D37: =D16 -> 40 | E37: =E16 -> 19.326923 | F37: =F16 -> 773.2 | H37: =H16 -> 0 | I37: =I16 -> 28.990385 | J37: =J16 -> 0 | L37: =L16 -> 773.2 | N37: =L37*6.2% -> 47.9384 | O37: =L37*1.45% -> 11.2114
A38: 9 | B38: 51 | C38: Hardy, Barbara T. | D38: =D17 -> 40 | E38: =E17 -> 14.480769 | F38: =F17 -> 579.2 | H38: =H17 -> 4 | I38: =I17 -> 21.721154 | J38: =J17 -> 86.884615 | L38: =L17 -> 666.08462 | N38: =L38*6.2% -> 41.297246 | O38: =L38*1.45% -> 9.6582269
A39: 10 | B39: 99 | C39: Kipley, Carson C. | D39: =D18 -> 40 | E39: =E18 -> 25 | F39: =F18 -> 1000 | H39: =H18 -> 0 | I39: =I18 -> N/A | J39: =J18 -> 0 | L39: =L18 -> 1000 | N39: =L39*6.2% -> 62 | O39: =L39*1.45% -> 14.5
A40: 11 | B40: Totals………………………………… | F40: =$F$19 -> 7065.55 | J40: =$J$19 -> 479.17462 | L40: =$L$19 -> 7544.7246 | N40: =SUM(N30:N39) -> 467.77293 | O40: 109.41

Sheet FIT, SIT, and CITP Taxes
A1: WEEK 4 | P1: `
A3: KIPLEY COMPANY, INC.
A4: PAYROLL REGISTER
C5: FOR PERIOD ENDING | D5: 40915
B7: Time Card No. | C7: Name | D7: Marital Statues | E7: NO. W.H Allow. | F7: Regular Earnings | I7: Overtime Earnings | M7: Deductions
F8: Hours worked | G8: Rate Per Hour | H8: Amount | I8: Hours worked | J8: Rate Per Hour | K8: Amount | L8: Total Earnings | M8: OASDI Tax | N8: HI Tax | O8: FIT | P8: SIT | Q8: SUTA | R8: CIT | S8: SIMPLE
T9: Gross Pay After Simple Plan
A10: 1 | B10: 11 | C10: Carson, Fran M. | D10: =B26 -> S | E10: =C26 -> 1 | F10: 40 | G10: 17.5 | H10: =F10*G10 -> 700 | I10: 0 | J10: 26.25 | K10: 0 | L10: 700 | M10: 43.4 | N10: 10.15 | O10: 76 | P10: =ROUND(L10*3.07%,2) -> 21.49 | R10: =L10 * 3% -> 21 | S10: =D26 -> 20 | T10: =L10-S10 -> 680
A11: 2 | B11: 12 | C11: Wilson, William A. | D11: =B27 -> S | E11: =C27 -> 0 | F11: 40 | G11: 17.25 | H11: 690 | I11: 8 | J11: 25.875 | K11: 207 | L11: =K11+H11 -> 897 | M11: 55.61 | N11: 13.00708 | O11: 119 | P11: =ROUND(L11*3.07%,2) -> 27.54 | R11: =L11 * 3% -> 26.91 | S11: =D27 -> 50 | T11: =L11-S11 -> 847
A12: 3 | B12: 13 | C12: Utley, Harry T. | D12: =B28 -> M | E12: =C28 -> 2 | F12: 37.5 | G12: 18.1 | H12: 678.75 | I12: 0 | J12: 27.15 | K12: 0 | L12: =K12+H12 -> 678.75 | M12: 42.0825 | N12: 9.841875 | O12: 32 | P12: =ROUND(L12*3.07%,2) -> 20.84 | R12: =L12 * 3% -> 20.3625 | S12: =D28 -> 40 | T12: =L12-S12 -> 638.75
A13: 4 | B13: 21 | C13: Fife, Lawrence R. | D13: =B29 -> M | E13: =C29 -> 4 | F13: 40 | G13: 17.9 | H13: 716 | I13: 6 | J13: 26.85 | K13: 161.1 | L13: =K13+H13 -> 877.1 | M13: 54.3802 | N13: 12.71795 | O13: 35 | P13: =ROUND(L13*3.07%,2) -> 26.93 | R13: =L13 * 3% -> 26.313 | S13: =D29 -> 50 | T13: =L13-S13 -> 827.1
A14: 5 | B14: 22 | C14: Smith, Lucy K | D14: =B30 -> S | E14: =C30 -> 2 | F14: 40 | G14: 19.75 | H14: 790 | I14: 0 | J14: 29.625 | K14: 0 | L14: =K14+H14 -> 790 | M14: 48.98 | N14: 11.455 | O14: 78 | P14: =ROUND(L14*3.07%,2) -> 24.25 | R14: =L14 * 3% -> 23.7 | S14: =D30 -> 20 | T14: =L14-S14 -> 770
A15: 6 | B15: 31 | C15: Fay, Gretchen R. | D15: =B31 -> M | E15: =C31 -> 3 | F15: 40 | G15: 12.875 | H15: 515 | I15: 1.25 | J15: 19.32 | K15: 24.14 | L15: =K15+H15 -> 539.14 | M15: 33.43 | N15: 7.820575 | O15: 10 | P15: 16.55 | R15: 16.17 | S15: =D31 -> 40 | T15: =L15-S15 -> 499.14
A16: 7 | B16: 32 | C16: Robey, Glenda B. | D16: =B32 -> M | E16: =C32 -> 6 | F16: 40 | G16: 15.576923 | H16: 623.08 | I16: 0 | J16: 23.365385 | K16: 0 | L16: =K16+H16 -> 623.08 | M16: 38.63 | N16: 9.03 | O16: 0 | P16: =ROUND(L16*3.07%,2) -> 19.13 | R16: 18.69 | S16: =D32 -> 50 | T16: =L16-S16 -> 573.08
A17: 8 | B17: 33 | C17: Schork, Thomas K. | D17: =B33 -> S | E17: =C33 -> 1 | F17: 40 | G17: 19.326923 | H17: 773.08 | I17: 0 | J17: 28.990385 | K17: 0 | L17: =K17+H17 -> 773.08 | M17: 47.93 | N17: 11.2114 | O17: 80 | P17: 23.73 | R17: 23.19 | S17: =D33 -> 60 | T17: =L17-S17 -> 713.08
A18: 9 | B18: 51 | C18: Hardy, Barbara T. | D18: =B34 -> M | E18: =C34 -> 5 | F18: 40 | G18: 14.480769 | H18: 579.23 | I18: 4 | J18: 21.721154 | K18: 86.884615 | L18: =K18+H18 -> 666.11462 | M18: 41.297246 | N18: 9.6582269 | O18: 9 | P18: =ROUND(L18*3.07%,2) -> 20.45 | R18: =L18 * 3% -> 19.983438 | S18: =D34 -> 30 | T18: =L18-S18 -> 636.11462
A19: 10 | B19: 99 | C19: Kipley, Carson C. | D19: =B35 -> M | E19: =C35 -> 7 | F19: 40 | G19: 25 | H19: 1000 | I19: 0 | J19: N/A | K19: 0 | L19: =K19+H19 -> 1000 | M19: 62 | N19: 14.5 | O19: 22 | P19: =ROUND(L19*3.07%,2) -> 30.7 | R19: =L19 * 3% -> 30 | S19: =D35 -> 80 | T19: =L19-S19 -> 920
A20: 11 | B20: Totals………………………………… | H20: 7065.14 | K20: =SUM(K10:K19) -> 479.12462 | L20: =SUM(L10:L19) -> 7544.2646 | M20: =SUM(M10:M19) -> 467.73995 | N20: =SUM(N10:N19) -> 109.39211 | O20: =SUM(O10:O19) -> 461 | P20: =SUM(P10:P19) -> 231.61 | R20: =SUM(R10:R19) -> 226.31894 | S20: =SUM(S10:S19) -> 440
A24: The Wage Bracket Method | H24: =515.2+24.15 -> 539.35
A25: Time Card No | B25: Marital Status | C25: No. of allowances | D25: SIMPLE deductions
A26: 11 | B26: S | C26: 1 | D26: 20
A27: 12 | B27: S | C27: 0 | D27: 50
A28: 13 | B28: M | C28: 2 | D28: 40
A29: 21 | B29: M | C29: 4 | D29: 50
A30: 22 | B30: S | C30: 2 | D30: 20
A31: 31 | B31: M | C31: 3 | D31: 40
A32: 32 | B32: M | C32: 6 | D32: 50
A33: 33 | B33: S | C33: 1 | D33: 60
A34: 51 | B34: M | C34: 5 | D34: 30
A35: 99 | B35: M | C35: 7 | D35: 80

Sheet SUTA and FUTA
A1: WEEK 5 | P1: `
A3: KIPLEY COMPANY, INC.
A4: PAYROLL REGISTER
C5: FOR PERIOD ENDING | D5: 40915
B7: Time Card No. | C7: Name | D7: Marital Statues | E7: NO. W.H Allow. | F7: Regular Earnings | I7: Overtime Earnings | M7: Deductions | W7: Net Paid | Y7: Taxable Earnings | AC7: FUTA & SUTA Taxes
F8: Hours worked | G8: Rate Per Hour | H8: Amount | I8: Hours worked | J8: Rate Per Hour | K8: Amount | L8: Total Earnings | M8: OASDI Tax | N8: HI Tax | O8: FIT | P8: SIT | Q8: SUTA | R8: CIT | S8: SIMPLE | U8: Group Ins. | V8: Health Ins. | W8: Check No. | X8: Amount | Y8: OASDI | Z8: HI | AA8: FUTA | AB8: SUTA | AC8: Net FUTA Tax | AD8: SUTA Tax | AE8: Gross FUTA
T9: Gross Pay After Simple Plan | AE9: Tax
A10: 1 | B10: 11 | C10: Carson, Fran M. | D10: =B26 -> S | E10: =C26 -> 1 | F10: 40 | G10: 17.5 | H10: =F10*G10 -> 700 | I10: 0 | J10: 26.25 | K10: 0 | L10: 700 | M10: 43.4 | N10: 10.15 | O10: 76 | P10: =ROUND(L10*3.07%,2) -> 21.49 | Q10: =L10*0.07% -> 0.49 | R10: =L10 * 3% -> 21 | S10: =D26 -> 20 | T10: =L10-S10 -> 680 | Y10: =L10-S10 -> 680 | Z10: =L10 -> 700 | AA10: =L10 -> 700 | AB10: =L10 -> 700 | AC10: =AA10*0.6% -> 4.2 | AD10: =AB10*3.6785% -> 25.7495 | AE10: =AA10*6% -> 42
A11: 2 | B11: 12 | C11: Wilson, William A. | D11: =B27 -> S | E11: =C27 -> 0 | F11: 40 | G11: 17.25 | H11: 690 | I11: 8 | J11: 25.875 | K11: 207 | L11: =K11+H11 -> 897 | M11: 55.61 | N11: 13.00708 | O11: 119 | P11: =ROUND(L11*3.07%,2) -> 27.54 | Q11: =L11*0.07% -> 0.6279 | R11: =L11 * 3% -> 26.91 | S11: =D27 -> 50 | T11: =L11-S11 -> 847 | Y11: =L11-S11 -> 847 | Z11: =L11 -> 897 | AA11: =L11 -> 897 | AB11: =L11 -> 897 | AC11: =AA11*0.6% -> 5.382 | AD11: =AB11*3.6785% -> 32.996145 | AE11: =AA11*6% -> 53.82
A12: 3 | B12: 13 | C12: Utley, Harry T. | D12: =B28 -> M | E12: =C28 -> 2 | F12: 37.5 | G12: 18.1 | H12: 678.75 | I12: 0 | J12: 27.15 | K12: 0 | L12: =K12+H12 -> 678.75 | M12: 42.0825 | N12: 9.841875 | O12: 32 | P12: =ROUND(L12*3.07%,2) -> 20.84 | Q12: =L12*0.07% -> 0.475125 | R12: =L12 * 3% -> 20.3625 | S12: =D28 -> 40 | T12: =L12-S12 -> 638.75 | Y12: =L12-S12 -> 638.75 | Z12: =L12 -> 678.75 | AA12: =L12 -> 678.75 | AB12: =L12 -> 678.75 | AC12: =AA12*0.6% -> 4.0725 | AD12: =AB12*3.6785% -> 24.967819 | AE12: =AA12*6% -> 40.725
A13: 4 | B13: 21 | C13: Fife, Lawrence R. | D13: =B29 -> M | E13: =C29 -> 4 | F13: 40 | G13: 17.9 | H13: 716 | I13: 6 | J13: 26.85 | K13: 161.1 | L13: =K13+H13 -> 877.1 | M13: 54.3802 | N13: 12.71795 | O13: 35 | P13: =ROUND(L13*3.07%,2) -> 26.93 | Q13: =L13*0.07% -> 0.61397 | R13: =L13 * 3% -> 26.313 | S13: =D29 -> 50 | T13: =L13-S13 -> 827.1 | Y13: =L13-S13 -> 827.1 | Z13: =L13 -> 877.1 | AA13: =L13 -> 877.1 | AB13: =L13 -> 877.1 | AC13: =AA13*0.6% -> 5.2626 | AD13: =AB13*3.6785% -> 32.264123 | AE13: =AA13*6% -> 52.626
A14: 5 | B14: 22 | C14: Smith, Lucy K | D14: =B30 -> S | E14: =C30 -> 2 | F14: 40 | G14: 19.75 | H14: 790 | I14: 0 | J14: 29.625 | K14: 0 | L14: =K14+H14 -> 790 | M14: 48.98 | N14: 11.455 | O14: 78 | P14: =ROUND(L14*3.07%,2) -> 24.25 | Q14: =L14*0.07% -> 0.553 | R14: =L14 * 3% -> 23.7 | S14: =D30 -> 20 | T14: =L14-S14 -> 770 | Y14: =L14-S14 -> 770 | Z14: =L14 -> 790 | AA14: =L14 -> 790 | AB14: =L14 -> 790 | AC14: =AA14*0.6% -> 4.74 | AD14: =AB14*3.6785% -> 29.06015 | AE14: =AA14*6% -> 47.4
A15: 6 | B15: 31 | C15: Fay, Gretchen R. | D15: =B31 -> M | E15: =C31 -> 3 | F15: 40 | G15: 12.875 | H15: 515 | I15: 1.25 | J15: 19.32 | K15: 24.14 | L15: =K15+H15 -> 539.14 | M15: 33.43 | N15: 7.820575 | O15: 10 | P15: 16.55 | Q15: =L15*0.07% -> 0.377398 | R15: 16.17 | S15: =D31 -> 40 | T15: =L15-S15 -> 499.14 | Y15: =L15-S15 -> 499.14 | Z15: =L15 -> 539.14 | AA15: =L15 -> 539.14 | AB15: =L15 -> 539.14 | AC15: =AA15*0.6% -> 3.23484 | AD15: =AB15*3.6785% -> 19.832265 | AE15: =AA15*6% -> 32.3484
A16: 7 | B16: 32 | C16: Robey, Glenda B. | D16: =B32 -> M | E16: =C32 -> 6 | F16: 40 | G16: 15.576923 | H16: 623.08 | I16: 0 | J16: 23.365385 | K16: 0 | L16: =K16+H16 -> 623.08 | M16: 38.63 | N16: 9.03 | O16: 0 | P16: =ROUND(L16*3.07%,2) -> 19.13 | Q16: =L16*0.07% -> 0.436156 | R16: 18.69 | S16: =D32 -> 50 | T16: =L16-S16 -> 573.08 | Y16: =L16-S16 -> 573.08 | Z16: =L16 -> 623.08 | AA16: =L16 -> 623.08 | AB16: =L16 -> 623.08 | AC16: =AA16*0.6% -> 3.73848 | AD16: =AB16*3.6785% -> 22.919998 | AE16: =AA16*6% -> 37.3848
A17: 8 | B17: 33 | C17: Schork, Thomas K. | D17: =B33 -> S | E17: =C33 -> 1 | F17: 40 | G17: 19.326923 | H17: 773.08 | I17: 0 | J17: 28.990385 | K17: 0 | L17: =K17+H17 -> 773.08 | M17: 47.93 | N17: 11.2114 | O17: 80 | P17: 23.73 | Q17: =L17*0.07% -> 0.541156 | R17: 23.19 | S17: =D33 -> 60 | T17: =L17-S17 -> 713.08 | Y17: =L17-S17 -> 713.08 | Z17: =L17 -> 773.08 | AA17: =L17 -> 773.08 | AB17: =L17 -> 773.08 | AC17: =AA17*0.6% -> 4.63848 | AD17: =AB17*3.6785% -> 28.437748 | AE17: =AA17*6% -> 46.3848
A18: 9 | B18: 51 | C18: Hardy, Barbara T. | D18: =B34 -> M | E18: =C34 -> 5 | F18: 40 | G18: 14.480769 | H18: 579.23 | I18: 4 | J18: 21.721154 | K18: 86.884615 | L18: =K18+H18 -> 666.11462 | M18: 41.297246 | N18: 9.6582269 | O18: 9 | P18: =ROUND(L18*3.07%,2) -> 20.45 | Q18: =L18*0.07% -> 0.46628023 | R18: =L18 * 3% -> 19.983438 | S18: =D34 -> 30 | T18: =L18-S18 -> 636.11462 | Y18: =L18-S18 -> 636.11462 | Z18: =L18 -> 666.11462 | AA18: =L18 -> 666.11462 | AB18: =L18 -> 666.11462 | AC18: =AA18*0.6% -> 3.9966877 | AD18: =AB18*3.6785% -> 24.503026 | AE18: =AA18*6% -> 39.966877
A19: 10 | B19: 99 | C19: Kipley, Carson C. | D19: =B35 -> M | E19: =C35 -> 7 | F19: 40 | G19: 25 | H19: 1000 | I19: 0 | J19: N/A | K19: 0 | L19: =K19+H19 -> 1000 | M19: 62 | N19: 14.5 | O19: 22 | P19: =ROUND(L19*3.07%,2) -> 30.7 | Q19: =L19*0.07% -> 0.7 | R19: =L19 * 3% -> 30 | S19: =D35 -> 80 | T19: =L19-S19 -> 920 | Y19: =L19-S19 -> 920 | Z19: =L19 -> 1000 | AA19: =L19 -> 1000 | AB19: =L19 -> 1000 | AC19: =AA19*0.6% -> 6 | AD19: =AB19*3.6785% -> 36.785 | AE19: =AA19*6% -> 60
A20: 11 | B20: Totals………………………………… | H20: 7065.14 | K20: =SUM(K10:K19) -> 479.12462 | L20: =SUM(L10:L19) -> 7544.2646 | M20: =SUM(M10:M19) -> 467.73995 | N20: =SUM(N10:N19) -> 109.39211 | O20: =SUM(O10:O19) -> 461 | P20: =SUM(P10:P19) -> 231.61 | Q20: =SUM(Q10:Q19) -> 5.2809852 | R20: =SUM(R10:R19) -> 226.31894 | S20: =SUM(S10:S19) -> 440 | Y20: =L20-S20 -> 7104.2646 | Z20: =L20 -> 7544.2646 | AA20: =L20 -> 7544.2646 | AB20: =L20 -> 7544.2646 | AC20: =SUM(AC10:AC19) -> 45.265588 | AD20: =SUM(AD10:AD19) -> 277.51577 | AE20: =SUM(AE10:AE19) -> 452.65588
A24: The Wage Bracket Method | H24: =515.2+24.15 -> 539.35
A25: Time Card No | B25: Marital Status | C25: No. of allowances | D25: SIMPLE deductions
A26: 11 | B26: S | C26: 1 | D26: 20
A27: 12 | B27: S | C27: 0 | D27: 50
A28: 13 | B28: M | C28: 2 | D28: 40
A29: 21 | B29: M | C29: 4 | D29: 50
A30: 22 | B30: S | C30: 2 | D30: 20
A31: 31 | B31: M | C31: 3 | D31: 40
A32: 32 | B32: M | C32: 6 | D32: 50
A33: 33 | B33: S | C33: 1 | D33: 60
A34: 51 | B34: M | C34: 5 | D34: 30
A35: 99 | B35: M | C35: 7 | D35: 80

Sheet Journal Entries
A1: WEEK 5 | P1: `
A3: KIPLEY COMPANY, INC.
A4: PAYROLL REGISTER
C5: FOR PERIOD ENDING | D5: 40915
B7: Time Card No. | C7: Name | D7: Marital Statues | E7: NO. W.H Allow. | F7: Regular Earnings | I7: Overtime Earnings | M7: Deductions | W7: Net Paid | Y7: Taxable Earnings | AC7: FUTA & SUTA Taxes
F8: Hours worked | G8: Rate Per Hour | H8: Amount | I8: Hours worked | J8: Rate Per Hour | K8: Amount | L8: Total Earnings | M8: OASDI Tax | N8: HI Tax | O8: FIT | P8: SIT | Q8: SUTA | R8: CIT | S8: SIMPLE | U8: Group Ins. | V8: Health Ins. | W8: Check No. | X8: Amount | Y8: OASDI | Z8: HI | AA8: FUTA | AB8: SUTA | AC8: Net FUTA Tax | AD8: SUTA Tax | AE8: Gross FUTA
T9: Gross Pay After Simple Plan | AE9: Tax
A10: 1 | B10: 11 | C10: Carson, Fran M. | D10: S | E10: 1 | F10: 40 | G10: 17.5 | H10: =F10*G10 -> 700 | I10: 0 | J10: 26.25 | K10: 0 | L10: 700 | M10: 43.4 | N10: 10.15 | O10: 76 | P10: =ROUND(L10*3.07%,2) -> 21.49 | Q10: =L10*0.07% -> 0.49 | R10: =L10 * 3% -> 21 | S10: 20 | T10: =L10-S10 -> 680 | U10: 0.85 | V10: 1.65 | W10: 313 | X10: =L10-M10-N10-O10-P10-Q10-R10-S10-U10-V10 -> 504.97 | Y10: =L10 -> 700 | Z10: =L10 -> 700 | AA10: =L10 -> 700 | AB10: =L10 -> 700 | AC10: =AA10*0.6% -> 4.2 | AD10: =AB10*3.6785% -> 25.7495 | AE10: =AA10*6% -> 42
A11: 2 | B11: 12 | C11: Wilson, William A. | D11: S | E11: 0 | F11: 40 | G11: 17.25 | H11: 690 | I11: 8 | J11: 25.875 | K11: 207 | L11: =K11+H11 -> 897 | M11: 55.61 | N11: 13.00708 | O11: 119 | P11: =ROUND(L11*3.07%,2) -> 27.54 | Q11: =L11*0.07% -> 0.6279 | R11: =L11 * 3% -> 26.91 | S11: 50 | T11: =L11-S11 -> 847 | U11: 0.85 | V11: 1.65 | W11: 314 | X11: =L11-M11-N11-O11-P11-Q11-R11-S11-U11-V11 -> 601.80502 | Y11: =L11 -> 897 | Z11: =L11 -> 897 | AA11: =L11 -> 897 | AB11: =L11 -> 897 | AC11: =AA11*0.6% -> 5.382 | AD11: =AB11*3.6785% -> 32.996145 | AE11: =AA11*6% -> 53.82
A12: 3 | B12: 13 | C12: Utley, Harry T. | D12: M | E12: 2 | F12: 37.5 | G12: 18.1 | H12: 678.75 | I12: 0 | J12: 27.15 | K12: 0 | L12: =K12+H12 -> 678.75 | M12: 42.0825 | N12: 9.841875 | O12: 32 | P12: =ROUND(L12*3.07%,2) -> 20.84 | Q12: =L12*0.07% -> 0.475125 | R12: =L12 * 3% -> 20.3625 | S12: 40 | T12: =L12-S12 -> 638.75 | U12: 0.85 | V12: 1.65 | W12: 315 | X12: =L12-M12-N12-O12-P12-Q12-R12-S12-U12-V12 -> 510.648 | Y12: =L12 -> 678.75 | Z12: =L12 -> 678.75 | AA12: =L12 -> 678.75 | AB12: =L12 -> 678.75 | AC12: =AA12*0.6% -> 4.0725 | AD12: =AB12*3.6785% -> 24.967819 | AE12: =AA12*6% -> 40.725
A13: 4 | B13: 21 | C13: Fife, Lawrence R. | D13: M | E13: 4 | F13: 40 | G13: 17.9 | H13: 716 | I13: 6 | J13: 26.85 | K13: 161.1 | L13: =K13+H13 -> 877.1 | M13: 54.3802 | N13: 12.71795 | O13: 35 | P13: =ROUND(L13*3.07%,2) -> 26.93 | Q13: =L13*0.07% -> 0.61397 | R13: =L13 * 3% -> 26.313 | S13: 50 | T13: =L13-S13 -> 827.1 | U13: 0.85 | V13: 1.65 | W13: 316 | X13: =L13-M13-N13-O13-P13-Q13-R13-S13-U13-V13 -> 668.64488 | Y13: =L13 -> 877.1 | Z13: =L13 -> 877.1 | AA13: =L13 -> 877.1 | AB13: =L13 -> 877.1 | AC13: =AA13*0.6% -> 5.2626 | AD13: =AB13*3.6785% -> 32.264123 | AE13: =AA13*6% -> 52.626
A14: 5 | B14: 22 | C14: Smith, Lucy K | D14: S | E14: 2 | F14: 40 | G14: 19.75 | H14: 790 | I14: 0 | J14: 29.625 | K14: 0 | L14: =K14+H14 -> 790 | M14: 48.98 | N14: 11.455 | O14: 78 | P14: =ROUND(L14*3.07%,2) -> 24.25 | Q14: =L14*0.07% -> 0.553 | R14: =L14 * 3% -> 23.7 | S14: 20 | T14: =L14-S14 -> 770 | V14: 1.65 | W14: 317 | X14: =L14-M14-N14-O14-P14-Q14-R14-S14-U14-V14 -> 581.412 | Y14: =L14 -> 790 | Z14: =L14 -> 790 | AA14: =L14 -> 790 | AB14: =L14 -> 790 | AC14: =AA14*0.6% -> 4.74 | AD14: =AB14*3.6785% -> 29.06015 | AE14: =AA14*6% -> 47.4
A15: 6 | B15: 31 | C15: Fay, Gretchen R. | D15: M | E15: 3 | F15: 40 | G15: 12.875 | H15: 515 | I15: 1.25 | J15: 19.32 | K15: 24.14 | L15: =K15+H15 -> 539.14 | M15: 33.43 | N15: 7.820575 | O15: 10 | P15: 16.55 | Q15: =L15*0.07% -> 0.377398 | R15: 16.17 | S15: 40 | T15: =L15-S15 -> 499.14 | U15: 0.85 | V15: 1.65 | W15: 318 | X15: =L15-M15-N15-O15-P15-Q15-R15-S15-U15-V15 -> 412.29203 | Y15: =L15 -> 539.14 | Z15: =L15 -> 539.14 | AA15: =L15 -> 539.14 | AB15: =L15 -> 539.14 | AC15: =AA15*0.6% -> 3.23484 | AD15: =AB15*3.6785% -> 19.832265 | AE15: =AA15*6% -> 32.3484
A16: 7 | B16: 32 | C16: Robey, Glenda B. | D16: M | E16: 6 | F16: 40 | G16: 15.576923 | H16: 623.08 | I16: 0 | J16: 23.365385 | K16: 0 | L16: =K16+H16 -> 623.08 | M16: 38.63 | N16: 9.03 | O16: 0 | P16: =ROUND(L16*3.07%,2) -> 19.13 | Q16: =L16*0.07% -> 0.436156 | R16: 18.69 | S16: 50 | T16: =L16-S16 -> 573.08 | U16: 0.85 | V16: 1.65 | W16: 319 | X16: =L16-M16-N16-O16-P16-Q16-R16-S16-U16-V16 -> 484.66384 | Y16: =L16 -> 623.08 | Z16: =L16 -> 623.08 | AA16: =L16 -> 623.08 | AB16: =L16 -> 623.08 | AC16: =AA16*0.6% -> 3.73848 | AD16: =AB16*3.6785% -> 22.919998 | AE16: =AA16*6% -> 37.3848
A17: 8 | B17: 33 | C17: Schork, Thomas K. | D17: S | E17: 1 | F17: 40 | G17: 19.326923 | H17: 773.08 | I17: 0 | J17: 28.990385 | K17: 0 | L17: =K17+H17 -> 773.08 | M17: 47.93 | N17: 11.2114 | O17: 80 | P17: 23.73 | Q17: =L17*0.07% -> 0.541156 | R17: 23.19 | S17: 60 | T17: =L17-S17 -> 713.08 | U17: 0.85 | V17: 1.65 | W17: 320 | X17: =L17-M17-N17-O17-P17-Q17-R17-S17-U17-V17 -> 523.97744 | Y17: =L17 -> 773.08 | Z17: =L17 -> 773.08 | AA17: =L17 -> 773.08 | AB17: =L17 -> 773.08 | AC17: =AA17*0.6% -> 4.63848 | AD17: =AB17*3.6785% -> 28.437748 | AE17: =AA17*6% -> 46.3848
A18: 9 | B18: 51 | C18: Hardy, Barbara T. | D18: M | E18: 5 | F18: 40 | G18: 14.480769 | H18: 579.23 | I18: 4 | J18: 21.721154 | K18: 86.884615 | L18: =K18+H18 -> 666.11462 | M18: 41.297246 | N18: 9.6582269 | O18: 9 | P18: =ROUND(L18*3.07%,2) -> 20.45 | Q18: =L18*0.07% -> 0.46628023 | R18: =L18 * 3% -> 19.983438 | S18: 30 | T18: =L18-S18 -> 636.11462 | U18: 0.85 | V18: 1.65 | W18: 321 | X18: =L18-M18-N18-O18-P18-Q18-R18-S18-U18-V18 -> 532.75942 | Y18: =L18 -> 666.11462 | Z18: =L18 -> 666.11462 | AA18: =L18 -> 666.11462 | AB18: =L18 -> 666.11462 | AC18: =AA18*0.6% -> 3.9966877 | AD18: =AB18*3.6785% -> 24.503026 | AE18: =AA18*6% -> 39.966877
A19: 10 | B19: 99 | C19: Kipley, Carson C. | D19: M | E19: 7 | F19: 40 | G19: 25 | H19: 1000 | I19: 0 | J19: N/A | K19: 0 | L19: =K19+H19 -> 1000 | M19: 62 | N19: 14.5 | O19: 22 | P19: =ROUND(L19*3.07%,2) -> 30.7 | Q19: =L19*0.07% -> 0.7 | R19: =L19 * 3% -> 30 | S19: 80 | T19: =L19-S19 -> 920 | V19: 1.65 | W19: 322 | X19: =L19-M19-N19-O19-P19-Q19-R19-S19-U19-V19 -> 758.45 | Y19: =L19 -> 1000 | Z19: =L19 -> 1000 | AA19: =L19 -> 1000 | AB19: =L19 -> 1000 | AC19: =AA19*0.6% -> 6 | AD19: =AB19*3.6785% -> 36.785 | AE19: =AA19*6% -> 60
A20: 11 | B20: Totals………………………………… | H20: 7065.14 | K20: =SUM(K10:K19) -> 479.12462 | L20: =SUM(L10:L19) -> 7544.2646 | M20: =SUM(M10:M19) -> 467.73995 | N20: =SUM(N10:N19) -> 109.39211 | O20: =SUM(O10:O19) -> 461 | P20: =SUM(P10:P19) -> 231.61 | Q20: =SUM(Q10:Q19) -> 5.2809852 | R20: =SUM(R10:R19) -> 226.31894 | ... V20: =SUM(V10:V19) -> 16.5 | X20: =SUM(X10:X19) -> 5579.6226 | Y20: =L20 -> 7544.2646 | Z20: =L20 -> 7544.2646 | AA20: =L20 -> 7544.2646 | AB20: =L20 -> 7544.2646 | AC20: =SUM(AC10:AC19) -> 45.265588 | AD20: =SUM(AD10:AD19) -> 277.51577 | AE20: =SUM(AE10:AE19) -> 452.65588
A22: JOURNAL
H24: Proof
B25: Date | C25: Description | E25: Debit | F25: Credit | H25: Regular Earnings | K25: =H20 -> 7065.14
A26: 1 | B26: 41285 | C26: Wages Expense | E26: =SUM(F27:F36) -> 7544.2646 | H26: Overtime Earnings | K26: =K20 -> 479.12462
A27: 2 | C27: Fica Taxes Payable-OASDI | F27: =K28 -> 467.73995 | H27: Total Earnings | L27: =K25+K26 -> 7544.2646
A28: 3 | C28: Fica Taxes Payable-HI | F28: =K29 -> 109.39211 | H28: FICA tax w/held-OASDI | K28: =M20 -> 467.73995
A29: 4 | C29: Employees FIT Payable | F29: =K30 -> 461 | H29: FICA tax w/held-HI | K29: =N20 -> 109.39211
A30: 5 | C30: SUTA Taxes Payable | F30: =K31 -> 5.2809852 | H30: FIT w/held | K30: =O20 -> 461
A31: 6 | C31: SIT Payable | F31: =K32 -> 231.61 | H31: SUTA w/held | K31: =Q20 -> 5.2809852
A32: 7 | C32: CIT Payable | F32: =K33 -> 226.31894 | H32: SIT w/held | K32: =P20 -> 231.61
A33: 8 | C33: Simple Deductions Payable | F33: =K34 -> 440 | H33: CIT w/held | K33: =R20 -> 226.31894
A34: 9 | C34: Group Insurance Premiums | F34: =K35 -> 6.8 | H34: Simple Plan | K34: =S20 -> 440
A35: 10 | C35: Health Insurance Premiums | F35: =K36 -> 16.5 | H35: Group Ins. | K35: =U20 -> 6.8
A36: 11 | C36: Salaries Payable | F36: =L38 -> 5579.6226 | H36: Health Ins. | K36: =V20 -> 16.5 | O36: =L20-S20 -> 7104.2646
A37: 12 | C37: To record payment of wages and liability for employers gross wages, withholdings, and net pay | H37: Total Deductions | L37: =SUM(K28:K36) -> 1964.642 | O37: =O36*6.2% -> 440.46441
A38: 13 | H38: Total Net Pay | L38: =L27-L37 -> 5579.6226
A39: 14 | H39: Total earnings | L39: =L37+L38 -> 7544.2646
A40: 15 | B40: 41285 | C40: Payroll Taxes | E40: =SUM(F41:F44) -> 899.9176
A41: 16 | C41: Fica Taxes Payable-OASDI | F41: =Y20*6.2% -> 467.74441
A42: 17 | C42: Fica Taxes Payable-OASDI | F42: =Z20*1.45% -> 109.39184
A43: 18 | C43: FUTA Taxes Payable | F43: =AA20*0.6% -> 45.265588
A44: 19 | C44: SUTA Taxes Payable | F44: =AB20*3.6785% -> 277.51577
...
